BEGIN:VCALENDAR
VERSION:2.0
PRODID:-//Maryland State Childcare Association - ECPv6.15.20//NONSGML v1.0//EN
CALSCALE:GREGORIAN
METHOD:PUBLISH
X-WR-CALNAME:Maryland State Childcare Association
X-ORIGINAL-URL:https://mscca.org
X-WR-CALDESC:Events for Maryland State Childcare Association
REFRESH-INTERVAL;VALUE=DURATION:PT1H
X-Robots-Tag:noindex
X-PUBLISHED-TTL:PT1H
BEGIN:VTIMEZONE
TZID:UTC
BEGIN:STANDARD
TZOFFSETFROM:+0000
TZOFFSETTO:+0000
TZNAME:UTC
DTSTART:20230101T000000
END:STANDARD
END:VTIMEZONE
BEGIN:VEVENT
DTSTART;VALUE=DATE:20240502
DTEND;VALUE=DATE:20240506
DTSTAMP:20260424T230613
CREATED:20230911T180002Z
LAST-MODIFIED:20240711T153108Z
UID:9332-1714608000-1714953599@mscca.org
SUMMARY:2024 Conference by the Sea
DESCRIPTION:Thank you to all for another successful conference! See you in 2025!\n \n 
URL:https://mscca.org/event/2024-conference-by-the-sea/
LOCATION:Maryland
CATEGORIES:Conferences
END:VEVENT
END:VCALENDAR