BEGIN:VCALENDAR
VERSION:2.0
PRODID:-//Maryland State Childcare Association - ECPv6.15.20//NONSGML v1.0//EN
CALSCALE:GREGORIAN
METHOD:PUBLISH
X-ORIGINAL-URL:https://mscca.org
X-WR-CALDESC:Events for Maryland State Childcare Association
REFRESH-INTERVAL;VALUE=DURATION:PT1H
X-Robots-Tag:noindex
X-PUBLISHED-TTL:PT1H
BEGIN:VTIMEZONE
TZID:UTC
BEGIN:STANDARD
TZOFFSETFROM:+0000
TZOFFSETTO:+0000
TZNAME:UTC
DTSTART:20250101T000000
END:STANDARD
END:VTIMEZONE
BEGIN:VEVENT
DTSTART;TZID=UTC:20260430T160000
DTEND;TZID=UTC:20260503T140000
DTSTAMP:20260421T202944
CREATED:20250505T001138Z
LAST-MODIFIED:20260120T185450Z
UID:10100-1777564800-1777816800@mscca.org
SUMMARY:2026 Conference by the Sea
DESCRIPTION:Conference Information
URL:https://mscca.org/event/conference-by-the-sea/
LOCATION:Maryland
CATEGORIES:Conferences
END:VEVENT
END:VCALENDAR