BEGIN:VCALENDAR
VERSION:2.0
PRODID:-//Maryland State Childcare Association - ECPv6.15.20//NONSGML v1.0//EN
CALSCALE:GREGORIAN
METHOD:PUBLISH
X-WR-CALNAME:Maryland State Childcare Association
X-ORIGINAL-URL:https://mscca.org
X-WR-CALDESC:Events for Maryland State Childcare Association
REFRESH-INTERVAL;VALUE=DURATION:PT1H
X-Robots-Tag:noindex
X-PUBLISHED-TTL:PT1H
BEGIN:VTIMEZONE
TZID:UTC
BEGIN:STANDARD
TZOFFSETFROM:+0000
TZOFFSETTO:+0000
TZNAME:UTC
DTSTART:20180101T000000
END:STANDARD
END:VTIMEZONE
BEGIN:VTIMEZONE
TZID:America/New_York
BEGIN:DAYLIGHT
TZOFFSETFROM:-0500
TZOFFSETTO:-0400
TZNAME:EDT
DTSTART:20190310T070000
END:DAYLIGHT
BEGIN:STANDARD
TZOFFSETFROM:-0400
TZOFFSETTO:-0500
TZNAME:EST
DTSTART:20191103T060000
END:STANDARD
BEGIN:DAYLIGHT
TZOFFSETFROM:-0500
TZOFFSETTO:-0400
TZNAME:EDT
DTSTART:20200308T070000
END:DAYLIGHT
BEGIN:STANDARD
TZOFFSETFROM:-0400
TZOFFSETTO:-0500
TZNAME:EST
DTSTART:20201101T060000
END:STANDARD
BEGIN:DAYLIGHT
TZOFFSETFROM:-0500
TZOFFSETTO:-0400
TZNAME:EDT
DTSTART:20210314T070000
END:DAYLIGHT
BEGIN:STANDARD
TZOFFSETFROM:-0400
TZOFFSETTO:-0500
TZNAME:EST
DTSTART:20211107T060000
END:STANDARD
END:VTIMEZONE
BEGIN:VEVENT
DTSTART;VALUE=DATE:20200924
DTEND;VALUE=DATE:20200928
DTSTAMP:20260422T224848
CREATED:20190720T171557Z
LAST-MODIFIED:20220316T182617Z
UID:4458-1600905600-1601251199@mscca.org
SUMMARY:Conference by the Sea 2020
DESCRIPTION:Register Here!\nClick Here for Conference Information \n  \n 
URL:https://mscca.org/event/conference-by-the-sea-2020/
END:VEVENT
BEGIN:VEVENT
DTSTART;TZID=UTC:20200910T130000
DTEND;TZID=UTC:20200910T153000
DTSTAMP:20260422T224848
CREATED:20200903T183224Z
LAST-MODIFIED:20220316T182617Z
UID:6571-1599742800-1599751800@mscca.org
SUMMARY:Town Hall Meeting
DESCRIPTION:MSCCA is here to support you. Join Us for A Virtual Town Hall Meeting. Attorney Michael Naccarato and Attorney Ashley L. Ensor from Gorman & Williams will host a legal Town Hall meeting. Topics to include Families First Coronavirus Response Act\, employment/unemployment\, furloughs\, PPP loans\, etc. \nClick Here to Register.
URL:https://mscca.org/event/town-hall-meeting/
END:VEVENT
BEGIN:VEVENT
DTSTART;TZID=America/New_York:20200217T120000
DTEND;TZID=America/New_York:20200217T130000
DTSTAMP:20260422T224848
CREATED:20200213T144157Z
LAST-MODIFIED:20220316T182618Z
UID:5502-1581940800-1581944400@mscca.org
SUMMARY:MSCCA Testifying and Asking for Amendments
DESCRIPTION:We urge you to contact your legislators to share your concerns. They need to hear from you !!! MSCCA will testify and ask for amendments. We need your voice to make a bigger impact as this will impact your business and children and families use our new app for advocacy and find your legislators email or call ASAP hearing is this Monday Feb 17 at noon. Want to testify? Contact us info@mscca.org. Let them know you have been a major part of supporting working parents\, educating birth to 5 and beyond preparing children for kindergarten and LIFE. \nContact your legislators here !
URL:https://mscca.org/event/mscca-testifying-and-asking-for-amendments/
END:VEVENT
BEGIN:VEVENT
DTSTART;VALUE=DATE:20200127
DTEND;VALUE=DATE:20200128
DTSTAMP:20260422T224848
CREATED:20190720T170956Z
LAST-MODIFIED:20220316T182618Z
UID:4456-1580083200-1580169599@mscca.org
SUMMARY:Evening in Annapolis Advocacy Night 
DESCRIPTION:
URL:https://mscca.org/event/evening-in-annapolis-advocacy-night/
END:VEVENT
BEGIN:VEVENT
DTSTART;VALUE=DATE:20191025
DTEND;VALUE=DATE:20191027
DTSTAMP:20260422T224848
CREATED:20191017T182704Z
LAST-MODIFIED:20220316T182618Z
UID:4773-1571961600-1572134399@mscca.org
SUMMARY:Fall 2019 Professional Development Opportunity - Conscious Discipline
DESCRIPTION:The Early Childhood Advisory Councils of Caroline\, Dorchester and Talbot Counties are THRILLED to announce the Fall 2019 Professional Development Opportunity. \nMaster Teacher Lety Valero Presents: Conscious Discipline\nAttend either day Friday\, October 25\, 2019 8:30-3:30 Todd Performing Arts Center\, Chesapeake College\nOR\nSaturday\, October 26\, 2019 8:30-3:30 Cadby Theater\, Chesapeake College\n.6 CEU/6 COK hours available and lunch provided $20 — contact local Judy Center for Scholarship if needed \nConscious Discipline is an evidence-based\, trauma-informed approach which is recognized by the Substance Abuse and Mental Health Administration (SAMHSA). Conscious Discipline encompasses these four components\, which are scientifically and\npractically designed for success:\n➢ Conscious Discipline Brain State Model\n○ Understanding how internal emotional states dictate our behavior\n➢ Seven Powers for Conscious Adults\n○ Shift perception to see discipline encounters as opportunities to teach new skills\n➢ Creating the School Family\n○ Building connections by creating a culture of compassion\n➢ Seven Skills of Discipline\n○ Problem-Solving with Social-Emotional Learning \nEvent Flyer \nRegistration Form
URL:https://mscca.org/event/fall-2019-professional-development-opportunity-conscious-discipline/
END:VEVENT
BEGIN:VEVENT
DTSTART;TZID=UTC:20191019T100000
DTEND;TZID=UTC:20191019T140000
DTSTAMP:20260422T224848
CREATED:20191014T142535Z
LAST-MODIFIED:20220316T182618Z
UID:4749-1571479200-1571493600@mscca.org
SUMMARY:1st Maryland STEM Parade
DESCRIPTION:
URL:https://mscca.org/event/1st-maryland-stem-parade/
LOCATION:Bowie State University\, 1400 Jericho Park Road\, Bowie\, Maryland
END:VEVENT
BEGIN:VEVENT
DTSTART;TZID=UTC:20191010T073000
DTEND;TZID=UTC:20191010T163000
DTSTAMP:20260422T224848
CREATED:20190720T170713Z
LAST-MODIFIED:20220316T182618Z
UID:4454-1570692600-1570725000@mscca.org
SUMMARY:Leadership Mini Conference Symposium
DESCRIPTION:
URL:https://mscca.org/event/leadership-mini-conference-symposium-2/
LOCATION:Ten Oaks – Ballroom\, 5000 Signal Bell Lane\, Clarksville\, MD\, 21029\, United States
END:VEVENT
BEGIN:VEVENT
DTSTART;TZID=UTC:20190822T180000
DTEND;TZID=UTC:20190822T210000
DTSTAMP:20260422T224848
CREATED:20190718T155106Z
LAST-MODIFIED:20220316T182618Z
UID:4432-1566496800-1566507600@mscca.org
SUMMARY:Montgomery College Early Childhood Professionals Annual Statewide Summer Symposium
DESCRIPTION:
URL:https://mscca.org/event/montgomery-college-early-childhood-professionals-annual-statewide-summer-symposium/
LOCATION:Montgomery College\, Rockville Campus\, 51 Mannakee Street – Theater Arts Building\, 51 Mannakee Street\, Rockville\, MD\, United States
END:VEVENT
BEGIN:VEVENT
DTSTART;VALUE=DATE:20190502
DTEND;VALUE=DATE:20190506
DTSTAMP:20260422T224848
CREATED:20180620T160135Z
LAST-MODIFIED:20220316T182618Z
UID:2999-1556755200-1557100799@mscca.org
SUMMARY:Conference by the Sea 2019
DESCRIPTION:MSCCA’s Conference by the Sea (CBTS) 2019 is the Maryland child care and early learning industry’s forum to collaborate and share best practices. Registrants are eligible to earn two (2) Professional Activity Units and can attend classes offering up to 17 hours of MSDE-approved training. With over 600 attendees expected from across Maryland\, CBTS is the must attend event for the early childhood community. \nThe 2019 conference offers three days of presentations by industry experts\, opportunities to interact with vendors in the exhibit area\, networking with peers\, professional development\, two receptions\, “In It to Win It” theme fun and more. This is an opportunity you don’t want to miss. \nRegistration Now Open!\nhttps://mscca.org/conferencebythesea2019/ \nSteve Spangler will be this year’s Keynote Speaker!\nhttps://youtu.be/JN_BDbtj4Vw
URL:https://mscca.org/event/conference-by-the-sea-2019/
LOCATION:Clarion Hotel and Resort\, Ocean City\, Maryland
CATEGORIES:Training
END:VEVENT
BEGIN:VEVENT
DTSTART;TZID=UTC:20190216T090000
DTEND;TZID=UTC:20190216T170000
DTSTAMP:20260422T224848
CREATED:20190113T194211Z
LAST-MODIFIED:20220316T182618Z
UID:3699-1550307600-1550336400@mscca.org
SUMMARY:Annual Regional Early Childhood Education Summit
DESCRIPTION:ANNUAL REGIONAL EARLY CHILDHOOD EDUCATION SUMMIT \nYou are invited to the 2nd Annual Regional Early Childhood Education Summit with an exciting lineup of keynote speakers and sessions! \nMontgomery College Early Childhood Programs in partnership with Maryland State Department of Education Division of Early Childhood\, Maryland State Child Care Association\, and many other early childhood education organizations are excited to welcome Council President Nancy Navarro and Apple Inc. as the 2019 keynote speakers! \nOver 20 sessions for all educators:\nSmithsonian\, Wolf Trap\, Apple\, Maryland State Early Childhood Taskforce\, Office of the State Superintendent of Education (OSSE)\, BRIYA\, NOVA\, Carroll Community College\, John Hopkins\, Towson University\, PG Community College\, George Mason University\, Author -J.K. Thomas-\, CDA Council\, NAEYC\, and many more. \nWhen\nSaturday\, February 16\, 2019 from 9:00 a.m. to 5:00 p.m. \nWhere\nMontgomery College Cultural Art Center\, 7995 Georgia Avenue\, Silver Spring\, 20910. \nAttendees will receive a 6-hour Core of Knowledge Certificate and Professional Activity Units for attending. \nCLICK HERE FOR REGISTRATION\nRegistration Deadline\nWednesday\, February 13\, 2019 \nWe look forward to seeing you at the Summit!
URL:https://mscca.org/event/annual-regional-early-childhood-education-summit/
LOCATION:Montgomery College Cultural Art Center\, 7995 Georgia Avenue\, Silver Spring\, Maryland\, 20910
END:VEVENT
BEGIN:VEVENT
DTSTART;VALUE=DATE:20190209
DTEND;VALUE=DATE:20200101
DTSTAMP:20260422T224848
CREATED:20190209T025012Z
LAST-MODIFIED:20220316T182618Z
UID:3875-1549670400-1577836799@mscca.org
SUMMARY:Maryland ChildCare Resource Network - Online Training
DESCRIPTION:Maryland Child Care Resource Network is proud to offer an online option for child care providers to meet Maryland training requirements. We provide an affordable and effective selection of courses approved by the Office of Child Care. \nClick Here for More Information
URL:https://mscca.org/event/maryland-childcare-resource-network-online-trainings/
CATEGORIES:Training
END:VEVENT
END:VCALENDAR